BEGIN:VCALENDAR
VERSION:2.0
PRODID:-//Smartare Elektroniksystem - ECPv6.15.12.2//NONSGML v1.0//EN
CALSCALE:GREGORIAN
METHOD:PUBLISH
X-ORIGINAL-URL:https://www.smartareelektroniksystem.se
X-WR-CALDESC:Händelser för Smartare Elektroniksystem
REFRESH-INTERVAL;VALUE=DURATION:PT1H
X-Robots-Tag:noindex
X-PUBLISHED-TTL:PT1H
BEGIN:VTIMEZONE
TZID:Europe/Paris
BEGIN:DAYLIGHT
TZOFFSETFROM:+0100
TZOFFSETTO:+0200
TZNAME:CEST
DTSTART:20130331T010000
END:DAYLIGHT
BEGIN:STANDARD
TZOFFSETFROM:+0200
TZOFFSETTO:+0100
TZNAME:CET
DTSTART:20131027T010000
END:STANDARD
BEGIN:DAYLIGHT
TZOFFSETFROM:+0100
TZOFFSETTO:+0200
TZNAME:CEST
DTSTART:20140330T010000
END:DAYLIGHT
BEGIN:STANDARD
TZOFFSETFROM:+0200
TZOFFSETTO:+0100
TZNAME:CET
DTSTART:20141026T010000
END:STANDARD
BEGIN:DAYLIGHT
TZOFFSETFROM:+0100
TZOFFSETTO:+0200
TZNAME:CEST
DTSTART:20150329T010000
END:DAYLIGHT
BEGIN:STANDARD
TZOFFSETFROM:+0200
TZOFFSETTO:+0100
TZNAME:CET
DTSTART:20151025T010000
END:STANDARD
BEGIN:DAYLIGHT
TZOFFSETFROM:+0100
TZOFFSETTO:+0200
TZNAME:CEST
DTSTART:20160327T010000
END:DAYLIGHT
BEGIN:STANDARD
TZOFFSETFROM:+0200
TZOFFSETTO:+0100
TZNAME:CET
DTSTART:20161030T010000
END:STANDARD
BEGIN:DAYLIGHT
TZOFFSETFROM:+0100
TZOFFSETTO:+0200
TZNAME:CEST
DTSTART:20170326T010000
END:DAYLIGHT
BEGIN:STANDARD
TZOFFSETFROM:+0200
TZOFFSETTO:+0100
TZNAME:CET
DTSTART:20171029T010000
END:STANDARD
END:VTIMEZONE
BEGIN:VEVENT
DTSTART;VALUE=DATE:20160819
DTEND;VALUE=DATE:20160820
DTSTAMP:20260423T042856
CREATED:20230831T110445Z
LAST-MODIFIED:20230831T110445Z
UID:10000055-1471564800-1471651199@www.smartareelektroniksystem.se
SUMMARY:IoT and Security
DESCRIPTION:IoT Sverige is hosting a workshop “IoT and Security” at the European Intelligence and Security Informatics Conference (EISIC) 2016.  The focus of the workshop to gather researchers and practitioner and discuss security and ethical aspects related to IoT.  “IoT and Security” is a part of EISIC so if you register for EISIC  you will also have to opportunity to attend the workshop. If you are a part of IoT Sverige you will receive an invitation to participate at “IoT and Security” on August 19 2016. \nProgram Friday August 19 2016 \n9.00-10.00  Patrick Lin (Cal Poly\, San Louis Obispo\, US) – Ethics of Connected and Autonomous Technologies. \n10.00- 10.30 Coffee break \n10.30 Richard Widh (Swedish Civil Contingencies Agency\, MSB)- Our digital connected world\, how vulnerable are we and what can we do? \n11.30 Ulrika Westergren (Umeå University\, Sweden) – Creating business value with the Internet of Things. Opportunities and challenges for firms. \n12.30 Lunch \n\n\n 
URL:https://www.smartareelektroniksystem.se/evenemang/iot-and-security/
LOCATION:Uppsala\, Sverige
CATEGORIES:Vi tipsar
END:VEVENT
BEGIN:VEVENT
DTSTART;VALUE=DATE:20160704
DTEND;VALUE=DATE:20160705
DTSTAMP:20260423T042856
CREATED:20230831T110327Z
LAST-MODIFIED:20230831T110327Z
UID:10000053-1467590400-1467676799@www.smartareelektroniksystem.se
SUMMARY:Almedalsseminarium: Hur kan Sverige ta ledningen i den digitala omställningen?
DESCRIPTION:Den digitala revolutionen håller på att transformera samhället i grunden. Villkoren för många branscher och sektorer förändras i en historiskt hög takt. Vad behöver göras för att Sverige ska inta en tätposition i den digitala omställningen? Hur tar vi tillvara på de möjligheter som digitaliseringen ger att skapa stärkt konkurrenskraft\, bättre välfärd och en mer hållbar utveckling? \nMedverkande \n\nDarja Isaksson\, konsult inom digital transformation\, ingår i regeringens innovationsråd.\nTorbjörn Lundahl\, program manager 5G for Sweden\, Ericsson\nAnn Söderström\, hälso- och sjukvårdsdirektör\, Västra Götalandsregionen.\nDaniel Daboczy\, vd\, FundedByMe.\nEmelie Dahlström\, generalsekreterare\, Kodcentrum\nCharlotte Brogren\, generaldirektör\, Vinnova\nSylvia Schwaag Serger\, moderator\, Vinnova\nCharlotte Brogren\, generaldirektör\, Vinnova\n\nhttp://vinnova.se/sv/Aktuellt–publicerat/Kalendarium/2016/160426-Hur-kan-Sverige-ta-ledningen-i-den-digitala-omstallningen/
URL:https://www.smartareelektroniksystem.se/evenemang/almedalsseminarium-hur-kan-sverige-ta-ledningen-i-den-digitala-omstallningen/
LOCATION:Visby\, Sverige
CATEGORIES:Vi tipsar
END:VEVENT
BEGIN:VEVENT
DTSTART;VALUE=DATE:20160614
DTEND;VALUE=DATE:20160615
DTSTAMP:20260423T042856
CREATED:20230831T110125Z
LAST-MODIFIED:20230831T110125Z
UID:10000050-1465862400-1465948799@www.smartareelektroniksystem.se
SUMMARY:Workshop om elektronik\, optoelektronik och sensorer
DESCRIPTION:Inspirations- och Interaktions-Workshop inriktad mot elektronik\, optoelektronik och sensorer \nAgenda: \n\nInspirerande ”Success stories” från industrivärld och akademi: från idé till produkt\n”Pitch”-session där du kortfattat kan berätta om vad ni arbetar med\, och kanske ni söker samarbeten\nVisa vad ni gör och intressera andra under Poster-sessionen\nPresentation av kompetenskartläggning inom projektet Kompetensnav MikroNanoelektronik\nProgrammet SIP – Smartare elektroniksystem – vad händer härnäst?\n\n  \nMer information finns här.
URL:https://www.smartareelektroniksystem.se/evenemang/workshop-om-elektronik-optoelektronik-och-sensorer/
LOCATION:Kista\, Sverige
CATEGORIES:Vi tipsar
END:VEVENT
BEGIN:VEVENT
DTSTART;VALUE=DATE:20160607
DTEND;VALUE=DATE:20160608
DTSTAMP:20260423T042856
CREATED:20230831T105858Z
LAST-MODIFIED:20230831T105858Z
UID:10000047-1465257600-1465343999@www.smartareelektroniksystem.se
SUMMARY:Digitalisering i svensk industri – hur kan det se ut i verkligheten?
DESCRIPTION:Välkommen att ta del av resultat från projekt i det strategiska innovationsprogrammet Produktion2030!\nProduktion2030 startade i december 2015 tolv kortare projekt – alla med fokus på digitalisering av (delar av) industriella produktionssystem och industriella processer. Varje projekt är finansierat med 500 000 kr från Produktion2030\, samt ytterligare medfinansiering från minst en industriell partner. Det är nu dags för dessa tolv projekt att slutredovisas\, och vi vill gärna bjuda in fler att ta del av resultaten\, så här långt! \nDe tolv projekten har huvudfokus på något av Produktion2030s sex styrkeområden:\n1. Hållbar och resurseffektiv produktion\n2. Flexibel produktion\n3. Virtuell produktionsutveckling och simulering\n4. Människan i produktionssystemet\n5. Produkt- och produktionstjänster\n6. Integrerad produkt och produktionsutveckling\nProjekten har alla en industriell ”kund” och det finns potential för flera av projekten att utvecklas vidare\, utanför Produktion2030. Vi ser gärna att resultaten når ut till fler aktörer inom industrin och vi vill bidra till ökad samverkan mellan forskare och företag och ytterligare program.\nRedovisningen kommer ske på svenska. \n\n  \nOSA: info@produktion2030.se \n(Senast den 3 juni vill vi veta om du kommer\, först till kvarn gäller)
URL:https://www.smartareelektroniksystem.se/evenemang/digitalisering-i-svensk-industri-hur-kan-det-se-ut-i-verkligheten/
LOCATION:Stockholm
CATEGORIES:Vi tipsar
END:VEVENT
BEGIN:VEVENT
DTSTART;VALUE=DATE:20160524
DTEND;VALUE=DATE:20160525
DTSTAMP:20260423T042856
CREATED:20230831T104517Z
LAST-MODIFIED:20230831T104517Z
UID:10000033-1464048000-1464134399@www.smartareelektroniksystem.se
SUMMARY:Turné med svenska spetsområden
DESCRIPTION:Vi visar vägen till svenska spetsområden.\nEn dag med fantastiska möjligheter för innovationer inom elektronik. \nVälkomna till en dag som öppnar dörrar till ny finansiering och nya samarbeten för Forskning\, Utveckling och Innovation. En dag med fokus på: \n\nDärför tillverkas det i Sverige – Business Sweden presenterar rapport.\nHär finns statlig finansiering.\nInspireras av experter inom framtidens elektronikområden\nHitta rätt partners för innovationer.
URL:https://www.smartareelektroniksystem.se/evenemang/turne-med-svenska-spetsomraden/
LOCATION:Västerås\, Sverige
CATEGORIES:Vi tipsar
END:VEVENT
BEGIN:VEVENT
DTSTART;VALUE=DATE:20160523
DTEND;VALUE=DATE:20160524
DTSTAMP:20260423T042856
CREATED:20230831T110041Z
LAST-MODIFIED:20230831T110041Z
UID:10000049-1463961600-1464047999@www.smartareelektroniksystem.se
SUMMARY:Infomöte om företagsforskarskola inom tillförlitliga inbygga sensorsystem
DESCRIPTION:Inbjudan till informationsmöte 23 maj 2016 om den nya företagsforskarskolan inom området tillförlitliga inbygga sensorsystem – ITS ESS-H\nMälardalens högskola\, genom forskningsområdet tillförlitliga inbyggda sensorsystem (reliable embedded sensor systems) kommer att starta en företagsforskarskola med finansiering från KKstiftelsen. Nu bjuder de in företag som är intresserade av att delta i forskarskolan. \nOmrådet för företagsforskarskolan är tillförlitliga inbyggda sensorsystem. Företagsforskarskolan kommer att startas under hösten 2016 och antagningen av doktorander kommer att pågå fram till juni 2017. \nEtt viktigt syfte med företagsforskarskolan är att hjälpa företagen att höja kompetensen. KK-stiftelsen ger ett visst ekonomiskt stöd till företagen\, vilket ska underlätta att låta en anställd påbörja en forskarutbildning. I bilagan till denna inbjudan hittar ni mer detaljer om hur forskarskolan planeras och de ekonomiska villkoren. \nInformationsmötet äger rum den 23 maj 2016 klockan 11.00-13.00 i sal U2-097 vid Mälardalens högskola i Västerås. Mdh bjuder på en lättare lunch. \nAnmälan till informationsmötet sker via mail till therese.jagestig@mdh.se. Anmäl ev. specialkost. Om ni är intresserade men inte kan komma till informationsmötet\, kontakta Therese så hittar de en tid för ett separat möte med er! Maila therese.jagestig@mdh.se .
URL:https://www.smartareelektroniksystem.se/evenemang/infomote-om-foretagsforskarskola-inom-tillforlitliga-inbygga-sensorsystem/
LOCATION:Västerås\, Sverige
CATEGORIES:Vi tipsar
END:VEVENT
BEGIN:VEVENT
DTSTART;VALUE=DATE:20160519
DTEND;VALUE=DATE:20160520
DTSTAMP:20260423T042856
CREATED:20230831T104241Z
LAST-MODIFIED:20230831T104241Z
UID:10000031-1463616000-1463702399@www.smartareelektroniksystem.se
SUMMARY:ElektronikEXPO 2016
DESCRIPTION:Smartare Elektroniksystem ställer ut på ElektronikEXPO i Västerås den 19 maj. Varmt välkommen till monter A.
URL:https://www.smartareelektroniksystem.se/evenemang/elektronikexpo-2016/
LOCATION:Västerås\, Sverige
CATEGORIES:Vi medverkar
END:VEVENT
BEGIN:VEVENT
DTSTART;VALUE=DATE:20160518
DTEND;VALUE=DATE:20160521
DTSTAMP:20260423T042856
CREATED:20230831T105814Z
LAST-MODIFIED:20230831T105814Z
UID:10000046-1463529600-1463788799@www.smartareelektroniksystem.se
SUMMARY:ISiCPEAW 2016 – International SiC Power Electronics Applications Workshop
DESCRIPTION:”The SiC Power Center (lead organizer)\, Enterprise Europe Network and Yole Développement are pleased to announce their collaboration on the International SiC Power Electronics Applications Workshop\, ISiCPEAW\, May 18 to 20 2016. \nISiCPEAW 2016 is a three day event\, consisting of two workshop days + one tutorial day\, covering the latest results and innovations in power electronics applications of silicon carbide technology. From May 18 to 20\, international experts will meet in Stockholm to share their expertise\, recent developments and vision of SiC electronics applications.” \nLäs mer.
URL:https://www.smartareelektroniksystem.se/evenemang/isicpeaw-2016-international-sic-power-electronics-applications-workshop/
LOCATION:Kista\, Sverige
CATEGORIES:Vi tipsar
END:VEVENT
BEGIN:VEVENT
DTSTART;VALUE=DATE:20160518
DTEND;VALUE=DATE:20160519
DTSTAMP:20260423T042856
CREATED:20230831T105604Z
LAST-MODIFIED:20230831T105604Z
UID:10000043-1463529600-1463615999@www.smartareelektroniksystem.se
SUMMARY:Integration av nyanlända med mjukvarukompetens
DESCRIPTION:”Välkommen till en workshop för integration\, för att stärka Sverige. \nI dagsläget finns i Sverige brist på kvalificerad mjukvarukompetens samtidigt som det finns utmaningar i att integrera nyanlända. \nDessa två utmaningar i kombination gör att Swedsoft\, i samarbete med Arbetsförmedlingen och CaptureInnovation AB startar ett initiativ i Västsverige för att underlätta för nyanlända med mjukvaruexpertis att komma i praktik eller arbete hos svenska arbetsgivare.” \nLäs mer.
URL:https://www.smartareelektroniksystem.se/evenemang/integration-av-nyanlanda-med-mjukvarukompetens/
LOCATION:Göteborg\, Sverige
CATEGORIES:Vi tipsar
END:VEVENT
BEGIN:VEVENT
DTSTART;VALUE=DATE:20160518
DTEND;VALUE=DATE:20160519
DTSTAMP:20260423T042856
CREATED:20230831T105526Z
LAST-MODIFIED:20230831T105526Z
UID:10000042-1463529600-1463615999@www.smartareelektroniksystem.se
SUMMARY:Kurs om finansiella frågor inom Horisont 2020
DESCRIPTION:”Horisont 2020 är EU:s största satsning på forskning och innovation och har en budget på runt 80 miljarder euro under perioden 2014-2020. För dig som vill veta mer om de finansiella reglerna ur en administrativ synvinkel arrangerar Vinnova under våren ett flertal kortare kurstillfällen om regelverket inom Horisont 2020. \nKursen vänder sig specifikt till dig som arbetar med att administrera Horisont 2020-projekt och som vill ha en generell överblick över det finansiella regelverket som styr. Vi kommer bland annat ta upp ersättningsnivåer\, tillåtna kostnader\, personalkostnader och tredje parts deltagande. Vi går även igenom EU-kommissionens ansökningsportal\, Participant Portal\, och Model Grant Agreement. \nKursledare är Gwendolyn Schaeken\, Nationell kontaktperson (NCP) för juridiska och finansiella frågor på Vinnova. Skicka gärna dina frågor i förväg. Ju fler frågor vi får i förväg\, desto bättre svar kan vi ge. Skicka dina frågor via e-post till: gwendolyn.schaeken@vinnova.se”\nhttp://www.vinnova.se/sv/Aktuellt–publicerat/Kalendarium/2016/160518-Kurs-om-finansiella-fragor-inom-Horisont-2020/
URL:https://www.smartareelektroniksystem.se/evenemang/kurs-om-finansiella-fragor-inom-horisont-2020/
LOCATION:Stockholm
CATEGORIES:Vi tipsar
END:VEVENT
BEGIN:VEVENT
DTSTART;VALUE=DATE:20160513
DTEND;VALUE=DATE:20160514
DTSTAMP:20260423T042856
CREATED:20230831T105959Z
LAST-MODIFIED:20230831T105959Z
UID:10000048-1463097600-1463183999@www.smartareelektroniksystem.se
SUMMARY:Workshop on proposals for innovation experiments in CPSELabs
DESCRIPTION:”Workshop purpose: To provide information about the \n(1) forthcoming call for proposals for innovation experiments in CPSELabs and\n(2) other opportunities for collaborative research and innovation projects.   \nWorkshop outline (about 3h): \n\n CPSELabs innovation experiments (KTH)\n\nGeneral information (20 mins)\nCPSELabs call topics with specific emphasis on the KTH call (~ 30 mins)\n\n\nQ&A session (up to 30 mins)\nCoffee\nOther funding opportunities for research and innovation projects (Vinnova)\n\nInternational ICT R&D funding opportunities in EU H2020\, EU JTI ECSEL and EUREKA Jonas Bjarne\, Andrej Litwin\, Johan Lindberg\, VINNOVA (45 mins)\nQ&A session (15 mins)\n\n\nBrokerage\, discussions\n\n12.00 Light lunch in the form of wraps\, drinks and mingling.” \n  \nLäs mer
URL:https://www.smartareelektroniksystem.se/evenemang/workshop-on-proposals-for-innovation-experiments-in-cpselabs/
LOCATION:Stockholm
CATEGORIES:Vi tipsar
END:VEVENT
BEGIN:VEVENT
DTSTART;VALUE=DATE:20160512
DTEND;VALUE=DATE:20160513
DTSTAMP:20260423T042856
CREATED:20230831T105735Z
LAST-MODIFIED:20230831T105735Z
UID:10000045-1463011200-1463097599@www.smartareelektroniksystem.se
SUMMARY:TeknikföreDagen 2016
DESCRIPTION:”Temat för TeknikföreDagen 2016 är exporten och dess förutsättningar. Det handlar både om teknikföretags överlevnad på en global marknad och hur vi säkrar det svenska välståndet i framtiden. \nFrågan är dock hur vi klarar konkurrensen. Vad krävs av företag och vilket stöd krävs från andra och inte minst från politiken? Och hur ser verkligheten ut? För att inte tala om kostnadsläget i Sverige. \nUnder eftermiddagen får du medverka i spännande samtal med företagsledare\, politiker\, opinionsbildare och många fler. Alla talar visserligen inte svenska men alla pratar varmt om export och affärer.” \nLäs mer
URL:https://www.smartareelektroniksystem.se/evenemang/teknikforedagen-2016/
LOCATION:Stockholm
CATEGORIES:Vi tipsar
END:VEVENT
BEGIN:VEVENT
DTSTART;VALUE=DATE:20160511
DTEND;VALUE=DATE:20160512
DTSTAMP:20260423T042856
CREATED:20230831T105637Z
LAST-MODIFIED:20230831T105637Z
UID:10000044-1462924800-1463011199@www.smartareelektroniksystem.se
SUMMARY:Security Day 2016
DESCRIPTION:”SICS\, Ericsson and KTH Security Seminar 2016 \nSecurity Day is a popular annual event arranged by SICS Swedish ICT and friends\, alternately in Stockholm and Lund. This year the event will be arranged by SICS Swedish ICT\, Ericsson Research\, and KTH and take place at Electrum\, Kista.”
URL:https://www.smartareelektroniksystem.se/evenemang/security-day-2016/
LOCATION:Kista\, Sverige
CATEGORIES:Vi tipsar
END:VEVENT
BEGIN:VEVENT
DTSTART;VALUE=DATE:20160511
DTEND;VALUE=DATE:20160512
DTSTAMP:20260423T042856
CREATED:20230831T104111Z
LAST-MODIFIED:20230831T104111Z
UID:10000029-1462924800-1463011199@www.smartareelektroniksystem.se
SUMMARY:TEC Linköping
DESCRIPTION:Smartare Elektroniksystem ställer ut på TEC – The Evertiq Conference – i Linköping den 11 maj. Varmt välkommen till monter 62. \nMellan kl 15:00 och 15:20 håller Magnus Svensson\, programchef\, Smartare Elektroniksystem en presentation med titeln ”Smartare Elektroniksystem – Miljoner att söka för innovation”.
URL:https://www.smartareelektroniksystem.se/evenemang/tec-linkoping/
LOCATION:Linköping\, Sverige
CATEGORIES:Vi medverkar
END:VEVENT
BEGIN:VEVENT
DTSTART;VALUE=DATE:20160428
DTEND;VALUE=DATE:20160429
DTSTAMP:20260423T042856
CREATED:20230831T105445Z
LAST-MODIFIED:20230831T105445Z
UID:10000041-1461801600-1461887999@www.smartareelektroniksystem.se
SUMMARY:Strategisk produktionsutveckling 2016
DESCRIPTION:”Välkommen till konferensen Strategisk produktionsutveckling den 28 april 2016\, en gemensam avslutning för de tre forskningsprojekten Lean automationsutveckling (LEAD)\, Kund-leverantörssamverkan i utformning av produktionsutrustning (EQUIP) och Reducing maintenance related waste\, finansierade av KK-stiftelsen och Vinnova. Konferensen hålls vid Mälardalens högskola i Eskilstuna i samverkan med Mälardalen Industrial Technology Center (MITC).” \nLäs mer och anmäl dig här\, senast 25 april \nSe inbjudan i pdf
URL:https://www.smartareelektroniksystem.se/evenemang/strategisk-produktionsutveckling-2016/
LOCATION:Eskilstuna\, Sverige
CATEGORIES:Vi tipsar
END:VEVENT
BEGIN:VEVENT
DTSTART;VALUE=DATE:20160426
DTEND;VALUE=DATE:20160430
DTSTAMP:20260423T042856
CREATED:20230831T104002Z
LAST-MODIFIED:20230831T104002Z
UID:10000028-1461628800-1461974399@www.smartareelektroniksystem.se
SUMMARY:Eureka Innovation Week
DESCRIPTION:Vinnova bjuder in till en veckas internationell konferens i Stockholm där man kan hitta nya samarbetspartners för kreativa projekt som kan få EU-finansiering. Temat är Smart Cities- Sustainable & Attractive Communities”. Besök den kostnadsfria konferensen i Stockholm och lär dig mer om att få finansiering för ert företags forskning och utveckling genom Europeiska R&D samarbetsprojekt. \nLäs mer
URL:https://www.smartareelektroniksystem.se/evenemang/eureka-innovation-week/
LOCATION:Stockholm
CATEGORIES:Vi tipsar
END:VEVENT
BEGIN:VEVENT
DTSTART;VALUE=DATE:20160419
DTEND;VALUE=DATE:20160422
DTSTAMP:20260423T042856
CREATED:20230831T103844Z
LAST-MODIFIED:20230831T103844Z
UID:10000027-1461024000-1461283199@www.smartareelektroniksystem.se
SUMMARY:Scandinavian Electronics Event
DESCRIPTION:Smartare Elektroniksystem finns på plats under S.E.E. på Kistamässan. Besök oss gärna i vår monter C04:10.
URL:https://www.smartareelektroniksystem.se/evenemang/scandinavian-electronics-event/
LOCATION:Kista\, Sverige
CATEGORIES:Vi medverkar
END:VEVENT
BEGIN:VEVENT
DTSTART;VALUE=DATE:20160419
DTEND;VALUE=DATE:20160420
DTSTAMP:20260423T042856
CREATED:20230831T105109Z
LAST-MODIFIED:20230831T105109Z
UID:10000039-1461024000-1461110399@www.smartareelektroniksystem.se
SUMMARY:Lärar- och SYV-dagen
DESCRIPTION:I samband med Scandinavian Electronics Event (S.E.E. 2016) på Kistamässan bjuder vi tisdagen den 19 april speciellt in studie- och yrkesvägledare liksom lärare\, elever och skolledare till en introduktion av elektronikbranschen och dess möjligheter. \nHär ges både information och inspiration samt möjlighet till nya kontakter inom en svensk framtidsbransch. På plats finns både branschrepresentanter liksom enskilda företag med representativa produkter som hjälper dig att utveckla både vägledningsarbete och lektionsinnehåll. \nFör mer information\, se www.see-event.se/for-skolor \nAnmäl ditt deltagande till karin.stenberg@acreo.se
URL:https://www.smartareelektroniksystem.se/evenemang/larar-och-syv-dagen/
LOCATION:Kista\, Sverige
CATEGORIES:Vi tipsar
END:VEVENT
BEGIN:VEVENT
DTSTART;VALUE=DATE:20150310
DTEND;VALUE=DATE:20150312
DTSTAMP:20260423T042856
CREATED:20230831T101520Z
LAST-MODIFIED:20230831T101553Z
UID:10000026-1425945600-1426118399@www.smartareelektroniksystem.se
SUMMARY:ECS Syd 2015
DESCRIPTION:Träffa oss på Embedded Conference Scandinavia Syd den 10 – 11 mars i Malmö.\nVi håller en presentation den 10 mars kl. 14.00 – 15.00. \nLäs mer om ECS Syd
URL:https://www.smartareelektroniksystem.se/evenemang/ecs-syd-2015/
LOCATION:Malmö\, Sverige
CATEGORIES:Vi tipsar
END:VEVENT
BEGIN:VEVENT
DTSTART;VALUE=DATE:20140925
DTEND;VALUE=DATE:20140926
DTSTAMP:20260423T042856
CREATED:20230831T101355Z
LAST-MODIFIED:20230831T101355Z
UID:10000025-1411603200-1411689599@www.smartareelektroniksystem.se
SUMMARY:SUMMIT 2014
DESCRIPTION:Vinnova sa JA till vårt Strategiska Innovationsprogram. Den 25 september hölls en SUMMIT inför det mångmiljonprogram som nu är på gång. \nHär presenterade ledningen för innovationsprogrammet upplägg och planer. Därtill hade vi fördjupade diskussioner om innehållet i programmet. Ett hundratal intresserade hade anmält sig till dagen för att vara med och påverka. \nPROGRAM\nVälkommen\nIntroduktion Tekniska Museet\nInledning\nMats Odell\, Programordförande \nStrategiska Innovationsområden\nCharlotte Brogren\, Generaldirektör VINNOVA \nElektronikens betydelse för industrin\nBo Wass\, VD Autoliv Electronics AB \nPresentation av det strategiska innovationsprogrammet\nMichael Lögdlund\, Programchef\nMaria Månsson (Prevas AB)\, ansvarig för programråd Värdekedja\nLeif Ljungqvist (Acreo Swedish ICT AB)\, ansvarig för programråd Spetsområden\nMikael Joki (Eskilstuna Elektronikpartner AB)\, ansvarig för programråd Kompetensförsörjning \nFördjupade gruppdiskussioner inom följande områden:\nMicro- och nanoteknik\nTryckt elektronik\nKraft elektronik\nFotonik\nAntenn-\, mikrovåg\, terrahertzsystem\nSensorer\nInbyggda system\nByggsätt\nTillförlitlighet\nProduktionsteknik\nSamverkan i värdekedjan\nKompetensförsörjning \nEn givande dag som gav värdefull input till fortsättningen.
URL:https://www.smartareelektroniksystem.se/evenemang/summit-2014/
LOCATION:Stockholm
CATEGORIES:Vi tipsar
END:VEVENT
END:VCALENDAR